BEGIN:VCALENDAR
VERSION:2.0
PRODID:-//Legacy City Church - ECPv6.15.20//NONSGML v1.0//EN
CALSCALE:GREGORIAN
METHOD:PUBLISH
X-WR-CALNAME:Legacy City Church
X-ORIGINAL-URL:https://www.legacycitychurch.com
X-WR-CALDESC:Events for Legacy City Church
REFRESH-INTERVAL;VALUE=DURATION:PT1H
X-Robots-Tag:noindex
X-PUBLISHED-TTL:PT1H
BEGIN:VTIMEZONE
TZID:America/Los_Angeles
BEGIN:DAYLIGHT
TZOFFSETFROM:-0800
TZOFFSETTO:-0700
TZNAME:PDT
DTSTART:20250309T100000
END:DAYLIGHT
BEGIN:STANDARD
TZOFFSETFROM:-0700
TZOFFSETTO:-0800
TZNAME:PST
DTSTART:20251102T090000
END:STANDARD
BEGIN:DAYLIGHT
TZOFFSETFROM:-0800
TZOFFSETTO:-0700
TZNAME:PDT
DTSTART:20260308T100000
END:DAYLIGHT
BEGIN:STANDARD
TZOFFSETFROM:-0700
TZOFFSETTO:-0800
TZNAME:PST
DTSTART:20261101T090000
END:STANDARD
BEGIN:DAYLIGHT
TZOFFSETFROM:-0800
TZOFFSETTO:-0700
TZNAME:PDT
DTSTART:20270314T100000
END:DAYLIGHT
BEGIN:STANDARD
TZOFFSETFROM:-0700
TZOFFSETTO:-0800
TZNAME:PST
DTSTART:20271107T090000
END:STANDARD
END:VTIMEZONE
BEGIN:VEVENT
DTSTART;TZID=America/Los_Angeles:20260426T093000
DTEND;TZID=America/Los_Angeles:20260426T093000
DTSTAMP:20260423T040016
CREATED:20260329T083448Z
LAST-MODIFIED:20260329T084313Z
UID:180286-1777195800-1777195800@www.legacycitychurch.com
SUMMARY:Sunday Service
DESCRIPTION:
URL:https://www.legacycitychurch.com/event/sunday-service-40/
LOCATION:Legacy City Church\, 3921 Laurel Canyon Blvd.\, Studio City\, CA\, 91604\, United States
END:VEVENT
BEGIN:VEVENT
DTSTART;TZID=America/Los_Angeles:20260426T110000
DTEND;TZID=America/Los_Angeles:20260426T110000
DTSTAMP:20260423T040016
CREATED:20260329T084336Z
LAST-MODIFIED:20260329T084336Z
UID:180309-1777201200-1777201200@www.legacycitychurch.com
SUMMARY:Sunday Service
DESCRIPTION:
URL:https://www.legacycitychurch.com/event/sunday-service-42/
END:VEVENT
BEGIN:VEVENT
DTSTART;TZID=America/Los_Angeles:20260429T190000
DTEND;TZID=America/Los_Angeles:20260429T190000
DTSTAMP:20260423T040016
CREATED:20260329T083712Z
LAST-MODIFIED:20260329T084451Z
UID:180296-1777489200-1777489200@www.legacycitychurch.com
SUMMARY:Men's Fellowship
DESCRIPTION:
URL:https://www.legacycitychurch.com/event/mens-fellowship-5/
END:VEVENT
END:VCALENDAR